BEGIN:VCALENDAR
VERSION:2.0
PRODID:-//ChamberMaster//Event Calendar 2.0//EN
METHOD:PUBLISH
X-PUBLISHED-TTL:P3D
REFRESH-INTERVAL:P3D
CALSCALE:GREGORIAN
BEGIN:VEVENT
DTSTART;VALUE=DATE:20261010
DTEND;VALUE=DATE:20261019
TRANSP:TRANSPARENT
X-MICROSOFT-CDO-ALLDAYEVENT:TRUE
SUMMARY:2026 Italy - Travel with Chamber
DESCRIPTION:Includes the Following\n\nRoundtrip International Airfare & Tax\n\n4 & 5-Star Hotel Accommodation\n\nBreakfast & Lunch\n\nDeluxe Bus Tours | Fluent English-speaking Tour\n\nGuides | Entrance Fees to Attractions
X-ALT-DESC;FMTTYPE=text/html:Includes the Following<br>\nRoundtrip International Airfare &amp\; Tax<br>\n4 &amp\; 5-Star Hotel Accommodation<br>\nBreakfast &amp\; Lunch<br>\nDeluxe Bus Tours | Fluent English-speaking Tour<br>\nGuides | Entrance Fees to Attractions
LOCATION:Greece
UID:e.1137.5197
SEQUENCE:3
DTSTAMP:20260419T132012Z
URL:https://gcvcc.gcvcc.org/events/details/2026-italy-travel-with-chamber-5197
END:VEVENT

END:VCALENDAR
