BEGIN:VCALENDAR
VERSION:2.0
PRODID:-//ChamberMaster//Event Calendar 2.0//EN
METHOD:PUBLISH
X-PUBLISHED-TTL:P3D
REFRESH-INTERVAL:P3D
CALSCALE:GREGORIAN
BEGIN:VEVENT
DTSTART;VALUE=DATE:20260123
DTEND;VALUE=DATE:20260126
TRANSP:TRANSPARENT
X-MICROSOFT-CDO-ALLDAYEVENT:TRUE
SUMMARY:2026 Southwest Art Festival Artist Fees
DESCRIPTION:
X-ALT-DESC;FMTTYPE=text/html:
LOCATION:Empire Polo Club
UID:e.1137.5247
SEQUENCE:3
DTSTAMP:20260422T164914Z
URL:https://gcvcc.gcvcc.org/events/details/2026-southwest-art-festival-artist-fees-5247
END:VEVENT

END:VCALENDAR
