BEGIN:VCALENDAR
VERSION:2.0
PRODID:-//ChamberMaster//Event Calendar 2.0//EN
METHOD:PUBLISH
X-PUBLISHED-TTL:P3D
REFRESH-INTERVAL:P3D
CALSCALE:GREGORIAN
BEGIN:VEVENT
DTSTART:20260918T180000Z
DTEND:20260918T210000Z
X-MICROSOFT-CDO-ALLDAYEVENT:FALSE
SUMMARY:All Valley Mayors\, County and Tribal Chairpersons Luncheon
DESCRIPTION:
X-ALT-DESC;FMTTYPE=text/html:
LOCATION:
UID:e.1137.5303
SEQUENCE:3
DTSTAMP:20260422T163831Z
URL:https://gcvcc.gcvcc.org/events/details/all-valley-mayors-county-and-tribal-chairpersons-luncheon-5303
END:VEVENT

END:VCALENDAR
