BEGIN:VCALENDAR
VERSION:2.0
PRODID:-//ChamberMaster//Event Calendar 2.0//EN
METHOD:PUBLISH
X-PUBLISHED-TTL:P3D
REFRESH-INTERVAL:P3D
CALSCALE:GREGORIAN
BEGIN:VEVENT
DTSTART:20260415T000000Z
DTEND:20260415T020000Z
X-MICROSOFT-CDO-ALLDAYEVENT:FALSE
SUMMARY:Cathedral City Chamber Local Mixer
DESCRIPTION:
X-ALT-DESC;FMTTYPE=text/html:
LOCATION:
UID:e.1137.5257
SEQUENCE:3
DTSTAMP:20260420T082319Z
URL:https://gcvcc.gcvcc.org/events/details/cathedral-city-chamber-local-mixer-5257
END:VEVENT

END:VCALENDAR
