BEGIN:VCALENDAR
VERSION:2.0
PRODID:-//ChamberMaster//Event Calendar 2.0//EN
METHOD:PUBLISH
X-PUBLISHED-TTL:P3D
REFRESH-INTERVAL:P3D
CALSCALE:GREGORIAN
BEGIN:VEVENT
DTSTART:20251104T163000Z
DTEND:20251104T174500Z
X-MICROSOFT-CDO-ALLDAYEVENT:FALSE
SUMMARY:Chamber 101: Membership Orientation & Networking Event
DESCRIPTION:
X-ALT-DESC;FMTTYPE=text/html:
LOCATION:
UID:e.1137.5269
SEQUENCE:3
DTSTAMP:20260422T201424Z
URL:https://gcvcc.gcvcc.org/events/details/chamber-101-membership-orientation-networking-event-5269
END:VEVENT

END:VCALENDAR
