BEGIN:VCALENDAR
VERSION:2.0
PRODID:-//ChamberMaster//Event Calendar 2.0//EN
METHOD:PUBLISH
X-PUBLISHED-TTL:P3D
REFRESH-INTERVAL:P3D
CALSCALE:GREGORIAN
BEGIN:VEVENT
DTSTART:20251205T010000Z
DTEND:20251205T030000Z
X-MICROSOFT-CDO-ALLDAYEVENT:FALSE
SUMMARY:GCVCC & Coachella Chamber Holiday Mixer at Spotlight 29 Casino
DESCRIPTION:
X-ALT-DESC;FMTTYPE=text/html:
LOCATION:
UID:e.1137.5275
SEQUENCE:3
DTSTAMP:20260422T183423Z
URL:https://gcvcc.gcvcc.org/events/details/gcvcc-coachella-chamber-holiday-mixer-at-spotlight-29-casino-5275
END:VEVENT

END:VCALENDAR
