BEGIN:VCALENDAR
VERSION:2.0
PRODID:-//ChamberMaster//Event Calendar 2.0//EN
METHOD:PUBLISH
X-PUBLISHED-TTL:P3D
REFRESH-INTERVAL:P3D
CALSCALE:GREGORIAN
BEGIN:VEVENT
DTSTART:20250822T160000Z
DTEND:20250822T173000Z
X-MICROSOFT-CDO-ALLDAYEVENT:FALSE
SUMMARY:GCVCC Educates - Top 10 Challenges Small Businesses Face and How to Tackle Them
DESCRIPTION:
X-ALT-DESC;FMTTYPE=text/html:
LOCATION:
UID:e.1137.5171
SEQUENCE:3
DTSTAMP:20260421T095616Z
URL:https://gcvcc.gcvcc.org/events/details/gcvcc-educates-top-10-challenges-small-businesses-face-and-how-to-tackle-them-08-22-2025-5171
END:VEVENT

END:VCALENDAR
