BEGIN:VCALENDAR
VERSION:2.0
PRODID:-//ChamberMaster//Event Calendar 2.0//EN
METHOD:PUBLISH
X-PUBLISHED-TTL:P3D
REFRESH-INTERVAL:P3D
CALSCALE:GREGORIAN
BEGIN:VEVENT
DTSTART:20251022T000000Z
DTEND:20251022T020000Z
X-MICROSOFT-CDO-ALLDAYEVENT:FALSE
SUMMARY:GCVCC Ribbon Cutting and Open House Mixer
DESCRIPTION:
X-ALT-DESC;FMTTYPE=text/html:
LOCATION:45524 Oasis St\, Building A Indio\, CA 92201
UID:e.1137.5260
SEQUENCE:3
DTSTAMP:20260422T213849Z
URL:https://gcvcc.gcvcc.org/events/details/gcvcc-ribbon-cutting-and-open-house-mixer-5260
END:VEVENT

END:VCALENDAR
