BEGIN:VCALENDAR
VERSION:2.0
PRODID:-//ChamberMaster//Event Calendar 2.0//EN
METHOD:PUBLISH
X-PUBLISHED-TTL:P3D
REFRESH-INTERVAL:P3D
CALSCALE:GREGORIAN
BEGIN:VEVENT
DTSTART:20260221T180000Z
DTEND:20260221T230000Z
X-MICROSOFT-CDO-ALLDAYEVENT:FALSE
SUMMARY:La Quinta Car Show 2026 Vehicle Registration ONLY
DESCRIPTION:TBD
X-ALT-DESC;FMTTYPE=text/html:<p class="x_MsoNormal" style="box-sizing: border-box\; margin: 0px\; font-size: 16px\; color: rgb(0\, 0\, 0)\; font-family: Calibri\, Helvetica\, sans-serif\, EmojiFont\, &quot\;Apple Color Emoji&quot\;\, &quot\;Segoe UI Emoji&quot\;\, NotoColorEmoji\, &quot\;Segoe UI Symbol&quot\;\, &quot\;Android Emoji&quot\;\, EmojiSymbols\;">TBD</p>\n
LOCATION:77-865 Avenida Montezuma La Quinta\, CA 92253
UID:e.1137.5274
SEQUENCE:3
DTSTAMP:20260422T120211Z
URL:https://gcvcc.gcvcc.org/events/details/la-quinta-car-show-2026-vehicle-registration-only-5274
END:VEVENT

END:VCALENDAR
