BEGIN:VCALENDAR
VERSION:2.0
PRODID:-//ChamberMaster//Event Calendar 2.0//EN
METHOD:PUBLISH
X-PUBLISHED-TTL:P3D
REFRESH-INTERVAL:P3D
CALSCALE:GREGORIAN
BEGIN:VEVENT
DTSTART:20250813T183000Z
DTEND:20250813T200000Z
X-MICROSOFT-CDO-ALLDAYEVENT:FALSE
SUMMARY:Lunch Club | Luna Grill
DESCRIPTION:
X-ALT-DESC;FMTTYPE=text/html:
LOCATION:79-124 CA-111 #101 | La Quinta\, CA 92253
UID:e.1137.5244
SEQUENCE:3
DTSTAMP:20260421T094729Z
URL:https://gcvcc.gcvcc.org/events/details/lunch-club-luna-grill-5244
END:VEVENT

END:VCALENDAR
