BEGIN:VCALENDAR
VERSION:2.0
PRODID:-//ChamberMaster//Event Calendar 2.0//EN
METHOD:PUBLISH
X-PUBLISHED-TTL:P3D
REFRESH-INTERVAL:P3D
CALSCALE:GREGORIAN
BEGIN:VEVENT
DTSTART:20251015T183000Z
DTEND:20251015T200000Z
X-MICROSOFT-CDO-ALLDAYEVENT:FALSE
SUMMARY:Lunch Club | Mountain View Grille at Desert Princess
DESCRIPTION:
X-ALT-DESC;FMTTYPE=text/html:
LOCATION:28555 Landau Blvd\, Cathedral City
UID:e.1137.5265
SEQUENCE:3
DTSTAMP:20260422T214111Z
URL:https://gcvcc.gcvcc.org/events/details/lunch-club-mountain-view-grille-at-desert-princess-5265
END:VEVENT

END:VCALENDAR
