BEGIN:VCALENDAR
VERSION:2.0
PRODID:-//ChamberMaster//Event Calendar 2.0//EN
METHOD:PUBLISH
X-PUBLISHED-TTL:P3D
REFRESH-INTERVAL:P3D
CALSCALE:GREGORIAN
BEGIN:VEVENT
DTSTART:20250409T183000Z
DTEND:20250409T200000Z
X-MICROSOFT-CDO-ALLDAYEVENT:FALSE
SUMMARY:Lunch Club | Oviation at Revel Palm Desert
DESCRIPTION:
X-ALT-DESC;FMTTYPE=text/html:
LOCATION:Ovation Restaurant located Inside of Revel Palm Desert 74300 Country Club Dr. Palm Desert\, CA
UID:e.1137.5227
SEQUENCE:3
DTSTAMP:20260423T072545Z
URL:https://gcvcc.gcvcc.org/events/details/lunch-club-oviation-at-revel-palm-desert-5227
END:VEVENT

END:VCALENDAR
