BEGIN:VCALENDAR
VERSION:2.0
PRODID:-//ChamberMaster//Event Calendar 2.0//EN
METHOD:PUBLISH
X-PUBLISHED-TTL:P3D
REFRESH-INTERVAL:P3D
CALSCALE:GREGORIAN
BEGIN:VEVENT
DTSTART:20251001T183000Z
DTEND:20251001T200000Z
X-MICROSOFT-CDO-ALLDAYEVENT:FALSE
SUMMARY:Lunch Club | The Restaurant At PSSC
DESCRIPTION:
X-ALT-DESC;FMTTYPE=text/html:
LOCATION:1500 S Gene Autry Trial Palm Springs\, CA 92264
UID:e.1137.5246
SEQUENCE:3
DTSTAMP:20260422T213731Z
URL:https://gcvcc.gcvcc.org/events/details/lunch-club-the-restaurant-at-pssc-5246
END:VEVENT

END:VCALENDAR
